BEGIN:VCALENDAR
VERSION:2.0
PRODID:-//Library Market//iCal Export//EN
BEGIN:VEVENT
SUMMARY:Lower Level Study Room 2 Reservation
UID:66066
DTSTAMP:20260425T185800Z
DTSTART:20260527T203000Z
DTEND:20260527T214500Z
LOCATION:32649 Electric Blvd, Avon Lake, OH 44012, United States
ROOM: Lower Level Study Room 2
DESCRIPTION:reading tutoring
URL:https://alpl.librarymarket.com/event/lower-level-study-room-2-reservat
 ion-66066
END:VEVENT
END:VCALENDAR
