BEGIN:VCALENDAR
VERSION:2.0
PRODID:-//Library Market//iCal Export//EN
BEGIN:VEVENT
SUMMARY:Lower Level Study Room 2 Reservation
UID:66032
DTSTAMP:20260424T050600Z
DTSTART:20260423T154500Z
DTEND:20260423T173000Z
LOCATION:32649 Electric Blvd, Avon Lake, OH 44012, United States
ROOM: Lower Level Study Room 2
DESCRIPTION:Job interview
URL:https://alpl.librarymarket.com/event/lower-level-study-room-2-reservat
 ion-66032
END:VEVENT
END:VCALENDAR
