BEGIN:VCALENDAR
VERSION:2.0
PRODID:-//Library Market//iCal Export//EN
BEGIN:VEVENT
SUMMARY:Lower Level Study Room 1 Reservation
UID:66024
DTSTAMP:20260423T132500Z
DTSTART:20260422T200000Z
DTEND:20260422T220000Z
LOCATION:32649 Electric Blvd, Avon Lake, OH 44012, United States
ROOM: Lower Level Study Room 1
DESCRIPTION:studying
URL:https://alpl.librarymarket.com/event/lower-level-study-room-1-reservat
 ion-66024
END:VEVENT
END:VCALENDAR
