BEGIN:VCALENDAR
VERSION:2.0
PRODID:-//Library Market//iCal Export//EN
BEGIN:VEVENT
SUMMARY:Lower Level Study Room 2 Reservation
UID:66002
DTSTAMP:20260422T171700Z
DTSTART:20260423T203000Z
DTEND:20260423T213000Z
LOCATION:32649 Electric Blvd, Avon Lake, OH 44012, United States
ROOM: Lower Level Study Room 2
DESCRIPTION:Reading
URL:https://alpl.librarymarket.com/event/lower-level-study-room-2-reservat
 ion-66002
END:VEVENT
END:VCALENDAR
