BEGIN:VCALENDAR
VERSION:2.0
PRODID:-//Library Market//iCal Export//EN
BEGIN:VEVENT
SUMMARY:Main Floor Study Room Reservation
UID:65986
DTSTAMP:20260422T171700Z
DTSTART:20260423T220000Z
DTEND:20260423T230000Z
LOCATION:32649 Electric Blvd, Avon Lake, OH 44012, United States
ROOM: Main Floor Study Room
DESCRIPTION:Study
URL:https://alpl.librarymarket.com/event/main-floor-study-room-reservation
 -65986
END:VEVENT
END:VCALENDAR
