BEGIN:VCALENDAR
VERSION:2.0
PRODID:-//Library Market//iCal Export//EN
BEGIN:VEVENT
SUMMARY:Lower Level Study Room 2 Reservation
UID:65982
DTSTAMP:20260422T171700Z
DTSTART:20260421T191500Z
DTEND:20260421T211500Z
LOCATION:32649 Electric Blvd, Avon Lake, OH 44012, United States
ROOM: Lower Level Study Room 2
DESCRIPTION:studying
URL:https://alpl.librarymarket.com/event/lower-level-study-room-2-reservat
 ion-65982
END:VEVENT
END:VCALENDAR
