BEGIN:VCALENDAR
VERSION:2.0
PRODID:-//Library Market//iCal Export//EN
BEGIN:VEVENT
SUMMARY:Lower Level Study Room 1 Reservation/Nardin G
UID:65978
DTSTAMP:20260422T171700Z
DTSTART:20260421T131500Z
DTEND:20260421T151500Z
LOCATION:32649 Electric Blvd, Avon Lake, OH 44012, United States
ROOM: Lower Level Study Room 1
DESCRIPTION:work/study
URL:https://alpl.librarymarket.com/event/lower-level-study-room-1-reservat
 ionnardin-g-65978
END:VEVENT
END:VCALENDAR
