BEGIN:VCALENDAR
VERSION:2.0
PRODID:-//Library Market//iCal Export//EN
BEGIN:VEVENT
SUMMARY:Kindergarten Girl Scouts Troop
UID:65972
DTSTAMP:20260423T040600Z
DTSTART:20260428T213000Z
DTEND:20260428T233000Z
LOCATION:32649 Electric Blvd, Avon Lake, OH 44012, United States
ROOM: The Lab
DESCRIPTION:Kindergarten Girl Scouts troop meeting
URL:https://alpl.librarymarket.com/event/lab-reservation-65972
END:VEVENT
END:VCALENDAR
