BEGIN:VCALENDAR
VERSION:2.0
PRODID:-//Library Market//iCal Export//EN
BEGIN:VEVENT
SUMMARY:Main Floor Study Room Reservation/Matthew S
UID:65971
DTSTAMP:20260421T151100Z
DTSTART:20260420T203000Z
DTEND:20260420T223000Z
LOCATION:32649 Electric Blvd, Avon Lake, OH 44012, United States
ROOM: Main Floor Study Room
DESCRIPTION:meeting/work/study
URL:https://alpl.librarymarket.com/event/main-floor-study-room-reservation
 matthew-s-65971
END:VEVENT
END:VCALENDAR
