BEGIN:VCALENDAR
VERSION:2.0
PRODID:-//Library Market//iCal Export//EN
BEGIN:VEVENT
SUMMARY:Lower Level Study Room 1 Reservation
UID:65964
DTSTAMP:20260422T013600Z
DTSTART:20260421T220000Z
DTEND:20260422T000000Z
LOCATION:32649 Electric Blvd, Avon Lake, OH 44012, United States
ROOM: Lower Level Study Room 1
DESCRIPTION:Meeting
URL:https://alpl.librarymarket.com/event/lower-level-study-room-1-reservat
 ion-65964
END:VEVENT
END:VCALENDAR
