BEGIN:VCALENDAR
VERSION:2.0
PRODID:-//Library Market//iCal Export//EN
BEGIN:VEVENT
SUMMARY:Lower Level Study Room 2 Reservation
UID:65962
DTSTAMP:20260422T050600Z
DTSTART:20260420T180000Z
DTEND:20260420T190000Z
LOCATION:32649 Electric Blvd, Avon Lake, OH 44012, United States
ROOM: Lower Level Study Room 2
DESCRIPTION:Study with a friend.
URL:https://alpl.librarymarket.com/event/lower-level-study-room-2-reservat
 ion-65962
END:VEVENT
END:VCALENDAR
