BEGIN:VCALENDAR
VERSION:2.0
PRODID:-//Library Market//iCal Export//EN
BEGIN:VEVENT
SUMMARY:Brady Campbell Irish Dance Competition
UID:65937
DTSTAMP:20260424T133400Z
DTSTART:20260516T180000Z
DTEND:20260516T200000Z
LOCATION:32649 Electric Blvd, Avon Lake, OH 44012, United States
ROOM: Waugaman Gallery
DESCRIPTION:Mini dance competition for our beginner dancers.
URL:https://alpl.librarymarket.com/event/waugaman-gallery-reservation-6593
 7
END:VEVENT
END:VCALENDAR
