BEGIN:VCALENDAR
VERSION:2.0
PRODID:-//Library Market//iCal Export//EN
BEGIN:VEVENT
SUMMARY:Lower Level Study Room 2 Reservation - M. Curley
UID:65918
DTSTAMP:20260420T130700Z
DTSTART:20260418T141500Z
DTEND:20260418T161500Z
LOCATION:32649 Electric Blvd, Avon Lake, OH 44012, United States
ROOM: Lower Level Study Room 2
DESCRIPTION:Study
URL:https://alpl.librarymarket.com/event/lower-level-study-room-2-reservat
 ion-m-curley-65918
END:VEVENT
END:VCALENDAR
