BEGIN:VCALENDAR
VERSION:2.0
PRODID:-//Library Market//iCal Export//EN
BEGIN:VEVENT
SUMMARY:Lower Level Study Room 1 Reservation
UID:65882
DTSTAMP:20260420T070900Z
DTSTART:20260616T214500Z
DTEND:20260616T233000Z
LOCATION:32649 Electric Blvd, Avon Lake, OH 44012, United States
ROOM: Lower Level Study Room 1
DESCRIPTION:Participating in virtual group
URL:https://alpl.librarymarket.com/event/lower-level-study-room-1-reservat
 ion-65882
END:VEVENT
END:VCALENDAR
