BEGIN:VCALENDAR
VERSION:2.0
PRODID:-//Library Market//iCal Export//EN
BEGIN:VEVENT
SUMMARY:Bible Study Group
UID:64714
DTSTAMP:20260424T120400Z
DTSTART:20260428T200000Z
DTEND:20260428T220000Z
LOCATION:32649 Electric Blvd, Avon Lake, OH 44012, United States
ROOM: Parke Conference Room
DESCRIPTION:study
URL:https://alpl.librarymarket.com/node/64714
END:VEVENT
END:VCALENDAR
