BEGIN:VCALENDAR
VERSION:2.0
PRODID:-//Library Market//iCal Export//EN
BEGIN:VEVENT
SUMMARY:Plant Sale Committee Meeting
UID:66031
DTSTAMP:20260425T135200Z
DTSTART:20260422T223000Z
DTEND:20260423T000000Z
LOCATION:32649 Electric Blvd, Avon Lake, OH 44012, United States
ROOM: Parke Conference Room
DESCRIPTION:Plant sale committee planning meeting
URL:https://alpl.librarymarket.com/index.php/event/parke-conference-room-r
 eservation-66031
END:VEVENT
END:VCALENDAR
