BEGIN:VCALENDAR
VERSION:2.0
PRODID:-//Library Market//iCal Export//EN
BEGIN:VEVENT
SUMMARY:Lower Level Study Room 1 Reservation
UID:66025
DTSTAMP:20260425T135200Z
DTSTART:20260422T220000Z
DTEND:20260423T000000Z
LOCATION:32649 Electric Blvd, Avon Lake, OH 44012, United States
ROOM: Lower Level Study Room 1
DESCRIPTION:studying
URL:https://alpl.librarymarket.com/index.php/event/lower-level-study-room-
 1-reservation-66025
END:VEVENT
END:VCALENDAR
