BEGIN:VCALENDAR
VERSION:2.0
PRODID:-//Library Market//iCal Export//EN
BEGIN:VEVENT
SUMMARY:Lower Level Study Room 1 Reservation
UID:66023
DTSTAMP:20260425T135200Z
DTSTART:20260422T180000Z
DTEND:20260422T200000Z
LOCATION:32649 Electric Blvd, Avon Lake, OH 44012, United States
ROOM: Lower Level Study Room 1
DESCRIPTION:studying
URL:https://alpl.librarymarket.com/index.php/event/lower-level-study-room-
 1-reservation-66023
END:VEVENT
END:VCALENDAR
