BEGIN:VCALENDAR
VERSION:2.0
PRODID:-//Library Market//iCal Export//EN
BEGIN:VEVENT
SUMMARY:Lower Level Study Room 1 Reservation - Nardin
UID:66015
DTSTAMP:20260425T135200Z
DTSTART:20260422T133000Z
DTEND:20260422T153000Z
LOCATION:32649 Electric Blvd, Avon Lake, OH 44012, United States
ROOM: Lower Level Study Room 1
DESCRIPTION:Study
URL:https://alpl.librarymarket.com/index.php/event/lower-level-study-room-
 1-reservation-nardin-66015
END:VEVENT
END:VCALENDAR
