BEGIN:VCALENDAR
VERSION:2.0
PRODID:-//Library Market//iCal Export//EN
BEGIN:VEVENT
SUMMARY:Lower Level Study Room 1 Reservation
UID:65920
DTSTAMP:20260420T023500Z
DTSTART:20260418T180000Z
DTEND:20260418T200000Z
LOCATION:32649 Electric Blvd, Avon Lake, OH 44012, United States
ROOM: Lower Level Study Room 1
DESCRIPTION:Study for AP
URL:https://alpl.librarymarket.com/index.php/event/lower-level-study-room-
 1-reservation-65920
END:VEVENT
END:VCALENDAR
