BEGIN:VCALENDAR
VERSION:2.0
PRODID:-//Library Market//iCal Export//EN
BEGIN:VEVENT
SUMMARY:What&#039;s Under the Hood? Rain Location
UID:65826
DTSTAMP:20260421T050100Z
DTSTART:20260418T150000Z
DTEND:20260418T160000Z
LOCATION:32649 Electric Blvd, Avon Lake, OH 44012, United States
ROOM: The Lab
DESCRIPTION:
URL:https://alpl.librarymarket.com/index.php/event/whats-under-hood-rain-l
 ocation-65826
END:VEVENT
END:VCALENDAR
