BEGIN:VCALENDAR
VERSION:2.0
PRODID:-//Library Market//iCal Export//EN
BEGIN:VEVENT
SUMMARY:DiscoveryWorks Tinker Time (All ages)
UID:64406
DTSTAMP:20260420T070900Z
DTSTART:20260703T150000Z
DTEND:20260703T190000Z
LOCATION:32649 Electric Blvd, Avon Lake, OH 44012, United States
ROOM: DiscoveryWorks Classroom
DESCRIPTION:Join us in The LabÂ to take on our makerspace challenge of the
  day!Â  Use a variety of tools and materials to think, design and invent.Â
  Drop in anytime during our open session. No registration required. Friday
 s, January 16, February 27, March 27, April 10, 11am-3pm
URL:https://alpl.librarymarket.com/index.php/event/discoveryworks-tinker-t
 ime-all-ages-64406
END:VEVENT
END:VCALENDAR
