BEGIN:VCALENDAR
VERSION:2.0
PRODID:-//Library Market//iCal Export//EN
BEGIN:VEVENT
SUMMARY:DiscoveryWorks Jr. Explorers (Ages 5-8)
UID:64043
DTSTAMP:20260423T145100Z
DTSTART:20260806T190000Z
DTEND:20260806T200000Z
LOCATION:32649 Electric Blvd, Avon Lake, OH 44012, United States
ROOM: The Lab
DESCRIPTION:Experiment, explore, create! Join us for an hour of hands-on s
 cience and art activities in The Lab. Ages 5-8. Registration required beg
 inning July 9th at ALPL.ORG/PROGRAMS or by phone at 440.933.7848. Voicemai
 l registrations not accepted.
URL:https://alpl.librarymarket.com/index.php/event/discoveryworks-jr-explo
 rers-ages-5-8-64043
END:VEVENT
END:VCALENDAR
